BEGIN:VCALENDAR
VERSION:2.0
PRODID:-//wp-events-plugin.com//7.2.3.1//EN
TZID:Europe/Paris
X-WR-TIMEZONE:Europe/Paris
BEGIN:VEVENT
UID:237@theatredelaposte-foix.fr
DTSTART;TZID=Europe/Paris:20260327T170000
DTEND;TZID=Europe/Paris:20260327T190000
DTSTAMP:20251018T080347Z
URL:https://www.theatredelaposte-foix.fr/evenements/concert-jam-session-en
 tree-libre-2/
SUMMARY:Concert & Jam Session - Entrée libre
DESCRIPTION:Il n’en a pas plus fallu plus à Émilie D pour en faire son 
 terrain de jeu.Elle tire dans ce one gonzesse show le portrait de différe
 nts personnages à l’insu de leur plein gré… Il y en a qui ne s’ass
 ument pas «femme» mais elles\, elles n’ont pas le choix!
ATTACH;FMTTYPE=image/jpeg:https://www.theatredelaposte-foix.fr/wp-content/
 uploads/2025/10/affiche-de-jazz-bleue-fonce-page-0001-scaled.jpg
LOCATION:Café Théâtre - Foix\, 13 Bis rue des Moulins \, Foix\, Occitani
 e\, 09000\, Ariège\, France
GEO:42.967034;1.605029
X-APPLE-STRUCTURED-LOCATION;VALUE=URI;X-ADDRESS=13 Bis rue des Moulins \, F
 oix\, Occitanie\, 09000\, Ariège\, France;X-APPLE-RADIUS=100;X-TITLE=Caf
 é Théâtre - Foix:geo:42.967034,1.605029
END:VEVENT
BEGIN:VTIMEZONE
TZID:Europe/Paris
X-LIC-LOCATION:Europe/Paris
BEGIN:STANDARD
DTSTART:20251026T020000
TZOFFSETFROM:+0200
TZOFFSETTO:+0100
TZNAME:CET
END:STANDARD
END:VTIMEZONE
END:VCALENDAR